Workbook

Sheet Average
A1: Function 51 - Facility Maintenance and Operations
A2: Average of fiscal years 2021 through 2025
B3: September | E3: October | J3: November | O3: December | T3: January | Y3: February | AD3: March | AI3: April | AN3: May | AS3: June | AX3: July | BC3: August | BE3: Total
E4: Month | G4: YTD | J4: Month | L4: YTD | O4: Month | Q4: YTD | T4: Month | V4: YTD | Y4: Month | AA4: YTD | AD4: Month | AF4: YTD | AI4: Month | AK4: YTD | AN4: Month | AP4: YTD | AS4: Month | AU4: YTD | AX4: Month | AZ4: YTD | BC4: Month | BE4: YTD
A5: Materials and Supplies | B5: 25000 | C5: =B5/$BE5 -> 0.13758943 | E5: 15000 | F5: =E5/$BE5 -> 0.08255366 | G5: =B5+E5 -> 40000 | H5: =G5/$BE5 -> 0.22014309 | J5: 8500 | K5: =J5/$BE5 -> 0.046780407 | L5: =G5+J5 -> 48500 | M5: =L5/$BE5 -> 0.2669235 | O5: 15000 | P5: =O5/$BE5 -> 0.08255366 | Q5: =L5+O5 -> 63500 | R5: =Q5/$BE5 -> 0.34947716 | T5: 6400 | U5: =T5/$BE5 -> 0.035222895 | V5: =Q5+T5 -> 69900 | W5: =V5/$BE5 -> 0.38470006 | Y5: 3600 | Z5: =Y5/$BE5 -> 0.019812878 | AA5: =V5+Y5 -> 73500 | AB5: =AA5/$BE5 -> 0.40451293 | AD5: 7200 | AE5: =AD5/$BE5 -> 0.039625757 | AF5: =AA5+AD5 -> 80700 | AG5: =AF5/$BE5 -> 0.44413869 | AI5: 32000 | AJ5: =AI5/$BE5 -> 0.17611447 | AK5: =AF5+AI5 -> 112700 | AL5: =AK5/$BE5 -> 0.62025316 | AN5: 22000 | AO5: =AN5/$BE5 -> 0.1210787 | AP5: =AK5+AN5 -> 134700 | AQ5: =AP5/$BE5 -> 0.74133187 | AS5: 47000 | AT5: =AS5/$BE5 -> 0.25866813 | AU5: =AP5+AS5 -> 181700 | AV5: =AU5/$BE5 -> 1 | AY5: =AX5/$BE5 -> 0 | AZ5: =AU5+AX5 -> 181700 | BA5: =AZ5/$BE5 -> 1 | BD5: =BC5/$BE5 -> 0 | BE5: =BC5+AX5+AS5+AN5+AI5+AD5+Y5+T5+O5+J5+E5+B5 -> 181700 | BF5: =BD5+AY5+AT5+AO5+AJ5+AE5+Z5+U5+P5+K5+F5+C5 -> 1
A6: Utilities | B6: 275000 | C6: =B6/$BE6 -> 0.10365624 | E6: 168000 | F6: =E6/$BE6 -> 0.063324538 | G6: =B6+E6 -> 443000 | H6: =G6/$BE6 -> 0.16698078 | J6: 167000 | K6: =J6/$BE6 -> 0.062947606 | L6: =G6+J6 -> 610000 | M6: =L6/$BE6 -> 0.22992838 | O6: 112000 | P6: =O6/$BE6 -> 0.042216359 | Q6: =L6+O6 -> 722000 | R6: =Q6/$BE6 -> 0.27214474 | T6: 145000 | U6: =T6/$BE6 -> 0.054655107 | V6: =Q6+T6 -> 867000 | W6: =V6/$BE6 -> 0.32679985 | Y6: 175000 | Z6: =Y6/$BE6 -> 0.065963061 | AA6: =V6+Y6 -> 1042000 | AB6: =AA6/$BE6 -> 0.39276291 | AD6: 115000 | AE6: =AD6/$BE6 -> 0.043347154 | AF6: =AA6+AD6 -> 1157000 | AG6: =AF6/$BE6 -> 0.43611006 | AI6: 130000 | AJ6: =AI6/$BE6 -> 0.049001131 | AK6: =AF6+AI6 -> 1287000 | AL6: =AK6/$BE6 -> 0.48511119 | AN6: 325000 | AO6: =AN6/$BE6 -> 0.12250283 | AP6: =AK6+AN6 -> 1612000 | AQ6: =AP6/$BE6 -> 0.60761402 | AS6: 375000 | AT6: =AS6/$BE6 -> 0.14134942 | AU6: =AP6+AS6 -> 1987000 | AV6: =AU6/$BE6 -> 0.74896344 | AX6: 290000 | AY6: =AX6/$BE6 -> 0.10931021 | AZ6: =AU6+AX6 -> 2277000 | BA6: =AZ6/$BE6 -> 0.85827365 | BC6: 376000 | BD6: =BC6/$BE6 -> 0.14172635 | BE6: =BC6+AX6+AS6+AN6+AI6+AD6+Y6+T6+O6+J6+E6+B6 -> 2653000 | BF6: =BD6+AY6+AT6+AO6+AJ6+AE6+Z6+U6+P6+K6+F6+C6 -> 1
A7: Capital Outlay | B7: 100000 | C7: =B7/$BE7 -> 0.47169811 | F7: =E7/$BE7 -> 0 | G7: =B7+E7 -> 100000 | H7: =G7/$BE7 -> 0.47169811 | K7: =J7/$BE7 -> 0 | L7: =G7+J7 -> 100000 | M7: =L7/$BE7 -> 0.47169811 | P7: =O7/$BE7 -> 0 | Q7: =L7+O7 -> 100000 | R7: =Q7/$BE7 -> 0.47169811 | U7: =T7/$BE7 -> 0 | V7: =Q7+T7 -> 100000 | W7: =V7/$BE7 -> 0.47169811 | Z7: =Y7/$BE7 -> 0 | AA7: =V7+Y7 -> 100000 | AB7: =AA7/$BE7 -> 0.47169811 | AE7: =AD7/$BE7 -> 0 | AF7: =AA7+AD7 -> 100000 | AG7: =AF7/$BE7 -> 0.47169811 | AJ7: =AI7/$BE7 -> 0 | AK7: =AF7+AI7 -> 100000 | AL7: =AK7/$BE7 -> 0.47169811 | AO7: =AN7/$BE7 -> 0 | AP7: =AK7+AN7 -> 100000 | AQ7: =AP7/$BE7 -> 0.47169811 | AS7: 32000 | AT7: =AS7/$BE7 -> 0.1509434 | AU7: =AP7+AS7 -> 132000 | AV7: =AU7/$BE7 -> 0.62264151 | AX7: 65000 | AY7: =AX7/$BE7 -> 0.30660377 | AZ7: =AU7+AX7 -> 197000 | BA7: =AZ7/$BE7 -> 0.92924528 | BC7: 15000 | BD7: =BC7/$BE7 -> 0.070754717 | BE7: =BC7+AX7+AS7+AN7+AI7+AD7+Y7+T7+O7+J7+E7+B7 -> 212000 | BF7: =BD7+AY7+AT7+AO7+AJ7+AE7+Z7+U7+P7+K7+F7+C7 -> 1
A8: Other | B8: 56000 | C8: =B8/$BE8 -> 0.073976222 | E8: 65000 | F8: =E8/$BE8 -> 0.085865258 | G8: =B8+E8 -> 121000 | H8: =G8/$BE8 -> 0.15984148 | J8: 52000 | K8: =J8/$BE8 -> 0.068692206 | L8: =G8+J8 -> 173000 | M8: =L8/$BE8 -> 0.22853369 | O8: 76000 | P8: =O8/$BE8 -> 0.1003963 | Q8: =L8+O8 -> 249000 | R8: =Q8/$BE8 -> 0.32892999 | T8: 23000 | U8: =T8/$BE8 -> 0.030383091 | V8: =Q8+T8 -> 272000 | W8: =V8/$BE8 -> 0.35931308 | Y8: 85000 | Z8: =Y8/$BE8 -> 0.11228534 | AA8: =V8+Y8 -> 357000 | AB8: =AA8/$BE8 -> 0.47159841 | AD8: 43000 | AE8: =AD8/$BE8 -> 0.05680317 | AF8: =AA8+AD8 -> 400000 | AG8: =AF8/$BE8 -> 0.52840159 | AI8: 56000 | AJ8: =AI8/$BE8 -> 0.073976222 | AK8: =AF8+AI8 -> 456000 | AL8: =AK8/$BE8 -> 0.60237781 | AN8: 65000 | AO8: =AN8/$BE8 -> 0.085865258 | AP8: =AK8+AN8 -> 521000 | AQ8: =AP8/$BE8 -> 0.68824306 | AS8: 86000 | AT8: =AS8/$BE8 -> 0.11360634 | AU8: =AP8+AS8 -> 607000 | AV8: =AU8/$BE8 -> 0.80184941 | AX8: 112000 | AY8: =AX8/$BE8 -> 0.14795244 | AZ8: =AU8+AX8 -> 719000 | BA8: =AZ8/$BE8 -> 0.94980185 | BC8: 38000 | BD8: =BC8/$BE8 -> 0.050198151 | BE8: =BC8+AX8+AS8+AN8+AI8+AD8+Y8+T8+O8+J8+E8+B8 -> 757000 | BF8: =BD8+AY8+AT8+AO8+AJ8+AE8+Z8+U8+P8+K8+F8+C8 -> 1
B10: =SUM(B5:B9) -> 456000 | C10: =B10/$BE10 -> 0.11988327 | E10: =SUM(E5:E9) -> 248000 | F10: =E10/$BE10 -> 0.065199674 | G10: =B10+E10 -> 704000 | H10: =G10/$BE10 -> 0.18508295 | J10: =SUM(J5:J9) -> 227500 | K10: =J10/$BE10 -> 0.059810185 | L10: =G10+J10 -> 931500 | M10: =L10/$BE10 -> 0.24489313 | O10: =SUM(O5:O9) -> 203000 | P10: =O10/$BE10 -> 0.053369088 | Q10: =L10+O10 -> 1134500 | R10: =Q10/$BE10 -> 0.29826222 | T10: =SUM(T5:T9) -> 174400 | U10: =T10/$BE10 -> 0.045850093 | V10: =Q10+T10 -> 1308900 | W10: =V10/$BE10 -> 0.34411231 | Y10: =SUM(Y5:Y9) -> 263600 | Z10: =Y10/$BE10 -> 0.069300944 | AA10: =V10+Y10 -> 1572500 | AB10: =AA10/$BE10 -> 0.41341326 | AD10: =SUM(AD5:AD9) -> 165200 | AE10: =AD10/$BE10 -> 0.043431396 | AF10: =AA10+AD10 -> 1737700 | AG10: =AF10/$BE10 -> 0.45684465 | AI10: =SUM(AI5:AI9) -> 218000 | AJ10: =AI10/$BE10 -> 0.057312617 | AK10: =AF10+AI10 -> 1955700 | AL10: =AK10/$BE10 -> 0.51415727 | AN10: =SUM(AN5:AN9) -> 412000 | AO10: =AN10/$BE10 -> 0.10831559 | AP10: =AK10+AN10 -> 2367700 | AQ10: =AP10/$BE10 -> 0.62247286 | AS10: =SUM(AS5:AS9) -> 540000 | AT10: =AS10/$BE10 -> 0.14196703 | AU10: =AP10+AS10 -> 2907700 | AV10: =AU10/$BE10 -> 0.76443989 | AX10: =SUM(AX5:AX9) -> 467000 | AY10: =AX10/$BE10 -> 0.12277519 | AZ10: =AU10+AX10 -> 3374700 | BA10: =AZ10/$BE10 -> 0.88721508 | BC10: =SUM(BC5:BC9) -> 429000 | BD10: =BC10/$BE10 -> 0.11278492 | BE10: =BC10+AX10+AS10+AN10+AI10+AD10+Y10+T10+O10+J10+E10+B10 -> 3803700 | BF10: =BD10+AY10+AT10+AO10+AJ10+AE10+Z10+U10+P10+K10+F10+C10 -> 1
A13: Capital Outlay | B13: Annual update of HVAC systems | Y13: February - Boiler system major repair removed from 2023 financials
A14: Utilities | AN14: Summer heat
A15: Other | O15: Cleaning while schools closed | AS15: Summer Cleaning

Sheet Budget
A1: Function 51 - Facility Maintenance and Operations
A2: Budget to Actual based on expected expenditures
C3: September | G3: October | O3: November
B4: 2025/2026 Budget | G4: Monthly | K4: YTD | O4: Monthly | S4: YTD | X4: December | AC4: January | AH4: February | AM4: March | AR4: April | AW4: May | BB4: June | BG4: July | BL4: August | BN4: Total
C5: Projected | D5: Actual | E5: Variance | G5: Projected | H5: Actual | I5: Variance | K5: Projected | L5: Actual | M5: Variance | O5: Projected | P5: Actual | Q5: Variance | S5: Projected | T5: Actual | U5: Variance | X5: Month | Z5: YTD | AC5: Month | AE5: YTD | AH5: Month | AJ5: YTD | AM5: Month | AO5: YTD | AR5: Month | AT5: YTD | AW5: Month | AY5: YTD | BB5: Month | BD5: YTD | BG5: Month | BI5: YTD | BL5: Month | BN5: YTD
A6: Materials and Supplies | B6: 225000 | C6: =B6*Average!C5 -> 30957.622 | D6: 36500 | E6: =C6-D6 -> -5542.3775 | G6: =$B6*Average!F5 -> 18574.573 | H6: 22000 | I6: =G6-H6 -> -3425.4265 | K6: =B6*Average!H5 -> 49532.196 | L6: =H6+D6 -> 58500 | M6: =K6-L6 -> -8967.8041 | O6: =B6*Average!K5 -> 10525.592 | P6: 16000 | Q6: =O6-P6 -> -5474.4084 | S6: =O6+K6 -> 60057.788 | T6: =P6+L6 -> 74500 | U6: =S6-T6 -> -14442.212 | X6: 15000 | Y6: =X6/$BN6 -> 0.077616536 | Z6: =Q6+X6 -> 9525.5916 | AA6: =Z6/$BN6 -> 0.049289562 | AC6: 6400 | AD6: =AC6/$BN6 -> 0.033116389 | AE6: =Z6+AC6 -> 15925.592 | AF6: =AE6/$BN6 -> 0.08240595 | AH6: 3600 | AI6: =AH6/$BN6 -> 0.018627969 | AJ6: =AE6+AH6 -> 19525.592 | AK6: =AJ6/$BN6 -> 0.10103392 | AM6: 7200 | AN6: =AM6/$BN6 -> 0.037255937 | AO6: =AJ6+AM6 -> 26725.592 | AP6: =AO6/$BN6 -> 0.13828986 | AR6: 32000 | AS6: =AR6/$BN6 -> 0.16558194 | AT6: =AO6+AR6 -> 58725.592 | AU6: =AT6/$BN6 -> 0.3038718 | AW6: 22000 | AX6: =AW6/$BN6 -> 0.11383759 | AY6: =AT6+AW6 -> 80725.592 | AZ6: =AY6/$BN6 -> 0.41770939 | BB6: 47000 | BC6: =BB6/$BN6 -> 0.24319848 | BD6: =AY6+BB6 -> 127725.59 | BE6: =BD6/$BN6 -> 0.66090786 | BH6: =BG6/$BN6 -> 0 | BI6: =BD6+BG6 -> 127725.59 | BJ6: =BI6/$BN6 -> 0.66090786 | BM6: =BL6/$BN6 -> 0 | BN6: =BL6+BG6+BB6+AW6+AR6+AM6+AH6+AC6+X6+O6+G6+C6 -> 193257.79 | BO6: =BM6+BH6+BC6+AX6+AS6+AN6+AI6+AD6+Y6+P6+I6+E6 -> 7032.8852
A7: Utilities | B7: 2800000 | C7: 275000 | D7: 223000 | E7: =C7-D7 -> 52000 | G7: =B7*Average!F6 -> 177308.71 | H7: 186000 | I7: =G7-H7 -> -8691.2929 | K7: =B7*Average!H6 -> 467546.17 | L7: =H7+D7 -> 409000 | M7: =K7-L7 -> 58546.174 | O7: 167000 | P7: 190000 | Q7: =O7-P7 -> -23000 | S7: =O7+K7 -> 634546.17 | T7: =P7+L7 -> 599000 | U7: =S7-T7 -> 35546.174 | X7: 112000 | Y7: =X7/$BN7 -> 0.04206875 | Z7: =Q7+X7 -> 89000 | AA7: =Z7/$BN7 -> 0.033429632 | AC7: 145000 | AD7: =AC7/$BN7 -> 0.054464007 | AE7: =Z7+AC7 -> 234000 | AF7: =AE7/$BN7 -> 0.087893639 | AH7: 175000 | AI7: =AH7/$BN7 -> 0.065732422 | AJ7: =AE7+AH7 -> 409000 | AK7: =AJ7/$BN7 -> 0.15362606 | AM7: 115000 | AN7: =AM7/$BN7 -> 0.043195592 | AO7: =AJ7+AM7 -> 524000 | AP7: =AO7/$BN7 -> 0.19682165 | AR7: 130000 | AS7: =AR7/$BN7 -> 0.048829799 | AT7: =AO7+AR7 -> 654000 | AU7: =AT7/$BN7 -> 0.24565145 | AW7: 325000 | AX7: =AW7/$BN7 -> 0.1220745 | AY7: =AT7+AW7 -> 979000 | AZ7: =AY7/$BN7 -> 0.36772595 | BB7: 375000 | BC7: =BB7/$BN7 -> 0.14085519 | BD7: =AY7+BB7 -> 1354000 | BE7: =BD7/$BN7 -> 0.50858114 | BG7: 290000 | BH7: =BG7/$BN7 -> 0.10892801 | BI7: =BD7+BG7 -> 1644000 | BJ7: =BI7/$BN7 -> 0.61750915 | BL7: 376000 | BM7: =BL7/$BN7 -> 0.1412308 | BN7: =BL7+BG7+BB7+AW7+AR7+AM7+AH7+AC7+X7+O7+G7+C7 -> 2662308.7 | BO7: =BM7+BH7+BC7+AX7+AS7+AN7+AI7+AD7+Y7+P7+I7+E7 -> 233309.47
A8: Capital Outlay | B8: 200000 | C8: 100000 | D8: 65000 | E8: =C8-D8 -> 35000 | G8: =B8*Average!F7 -> 0 | H8: 0 | I8: =G8-H8 -> 0 | K8: =B8*Average!H7 -> 94339.623 | L8: =H8+D8 -> 65000 | M8: =K8-L8 -> 29339.623 | P8: 165000 | Q8: =O8-P8 -> -165000 | S8: =O8+K8 -> 94339.623 | T8: =P8+L8 -> 230000 | U8: =S8-T8 -> -135660.38 | Y8: =X8/$BN8 -> 0 | Z8: =Q8+X8 -> -165000 | AA8: =Z8/$BN8 -> -0.77830189 | AD8: =AC8/$BN8 -> 0 | AE8: =Z8+AC8 -> -165000 | AF8: =AE8/$BN8 -> -0.77830189 | AI8: =AH8/$BN8 -> 0 | AJ8: =AE8+AH8 -> -165000 | AK8: =AJ8/$BN8 -> -0.77830189 | AN8: =AM8/$BN8 -> 0 | AO8: =AJ8+AM8 -> -165000 | AP8: =AO8/$BN8 -> -0.77830189 | AS8: =AR8/$BN8 -> 0 | AT8: =AO8+AR8 -> -165000 | AU8: =AT8/$BN8 -> -0.77830189 | AX8: =AW8/$BN8 -> 0 | AY8: =AT8+AW8 -> -165000 | AZ8: =AY8/$BN8 -> -0.77830189 | BB8: 32000 | BC8: =BB8/$BN8 -> 0.1509434 | BD8: =AY8+BB8 -> -133000 | BE8: =BD8/$BN8 -> -0.62735849 | BG8: 65000 | BH8: =BG8/$BN8 -> 0.30660377 | BI8: =BD8+BG8 -> -68000 | BJ8: =BI8/$BN8 -> -0.32075472 | BL8: 15000 | BM8: =BL8/$BN8 -> 0.070754717 | BN8: =BL8+BG8+BB8+AW8+AR8+AM8+AH8+AC8+X8+O8+G8+C8 -> 212000 | BO8: =BM8+BH8+BC8+AX8+AS8+AN8+AI8+AD8+Y8+P8+I8+E8 -> 200000.53
A9: Other | B9: 850000 | C9: 56000 | D9: 76000 | E9: =C9-D9 -> -20000 | G9: =B9*Average!F8 -> 72985.469 | H9: 82500 | I9: =G9-H9 -> -9514.531 | K9: =B9*Average!H8 -> 135865.26 | L9: =H9+D9 -> 158500 | M9: =K9-L9 -> -22634.742 | O9: 52000 | P9: 145500 | Q9: =O9-P9 -> -93500 | S9: =O9+K9 -> 187865.26 | T9: =P9+L9 -> 304000 | U9: =S9-T9 -> -116134.74 | X9: 76000 | Y9: =X9/$BN9 -> 0.099348292 | Z9: =Q9+X9 -> -17500 | AA9: =Z9/$BN9 -> -0.022876252 | AC9: 23000 | AD9: =AC9/$BN9 -> 0.030065931 | AE9: =Z9+AC9 -> 5500 | AF9: =AE9/$BN9 -> 0.0071896791 | AH9: 85000 | AI9: =AH9/$BN9 -> 0.11111322 | AJ9: =AE9+AH9 -> 90500 | AK9: =AJ9/$BN9 -> 0.1183029 | AM9: 43000 | AN9: =AM9/$BN9 -> 0.056210218 | AO9: =AJ9+AM9 -> 133500 | AP9: =AO9/$BN9 -> 0.17451312 | AR9: 56000 | AS9: =AR9/$BN9 -> 0.073204005 | AT9: =AO9+AR9 -> 189500 | AU9: =AT9/$BN9 -> 0.24771712 | AW9: 65000 | AX9: =AW9/$BN9 -> 0.084968934 | AY9: =AT9+AW9 -> 254500 | AZ9: =AY9/$BN9 -> 0.33268606 | BB9: 86000 | BC9: =BB9/$BN9 -> 0.11242044 | BD9: =AY9+BB9 -> 340500 | BE9: =BD9/$BN9 -> 0.44510649 | BG9: 112000 | BH9: =BG9/$BN9 -> 0.14640801 | BI9: =BD9+BG9 -> 452500 | BJ9: =BI9/$BN9 -> 0.5915145 | BL9: 38000 | BM9: =BL9/$BN9 -> 0.049674146 | BN9: =BL9+BG9+BB9+AW9+AR9+AM9+AH9+AC9+X9+O9+G9+C9 -> 764985.47 | BO9: =BM9+BH9+BC9+AX9+AS9+AN9+AI9+AD9+Y9+P9+I9+E9 -> 115986.23
B11: =SUM(B6:B10) -> 4075000 | C11: =SUM(C6:C10) -> 461957.62 | D11: =SUM(D6:D10) -> 400500 | E11: =C11-D11 -> 61457.622 | G11: =SUM(G6:G10) -> 268868.75 | H11: =SUM(H6:H10) -> 290500 | I11: =G11-H11 -> -21631.25 | K11: =SUM(K6:K10) -> 747283.25 | L11: =SUM(L6:L10) -> 691000 | M11: =K11-L11 -> 56283.25 | O11: =SUM(O6:O10) -> 229525.59 | P11: =SUM(P6:P10) -> 516500 | Q11: =O11-P11 -> -286974.41 | S11: =SUM(S6:S10) -> 976808.84 | T11: =SUM(T6:T10) -> 1207500 | U11: =S11-T11 -> -230691.16 | X11: =SUM(X6:X10) -> 203000 | Y11: =X11/$BN11 -> 0.052967318 | Z11: =Q11+X11 -> -83974.408 | AA11: =Z11/$BN11 -> -0.021910834 | AC11: =SUM(AC6:AC10) -> 174400 | AD11: =AC11/$BN11 -> 0.045504928 | AE11: =Z11+AC11 -> 90425.592 | AF11: =AE11/$BN11 -> 0.023594094 | AH11: =SUM(AH6:AH10) -> 263600 | AI11: =AH11/$BN11 -> 0.068779237 | AJ11: =AE11+AH11 -> 354025.59 | AK11: =AJ11/$BN11 -> 0.092373331 | AM11: =SUM(AM6:AM10) -> 165200 | AN11: =AM11/$BN11 -> 0.043104438 | AO11: =AJ11+AM11 -> 519225.59 | AP11: =AO11/$BN11 -> 0.13547777 | AR11: =SUM(AR6:AR10) -> 218000 | AS11: =AR11/$BN11 -> 0.05688116 | AT11: =AO11+AR11 -> 737225.59 | AU11: =AT11/$BN11 -> 0.19235893 | AW11: =SUM(AW6:AW10) -> 412000 | AX11: =AW11/$BN11 -> 0.10750017 | AY11: =AT11+AW11 -> 1149225.6 | AZ11: =AY11/$BN11 -> 0.2998591 | BB11: =SUM(BB6:BB10) -> 540000 | BC11: =BB11/$BN11 -> 0.14089829 | BD11: =AY11+BB11 -> 1689225.6 | BE11: =BD11/$BN11 -> 0.44075739 | BG11: =SUM(BG6:BG10) -> 467000 | BH11: =BG11/$BN11 -> 0.12185092 | BI11: =BD11+BG11 -> 2156225.6 | BJ11: =BI11/$BN11 -> 0.56260831 | BL11: =SUM(BL6:BL10) -> 429000 | BM11: =BL11/$BN11 -> 0.11193586 | BN11: =BL11+BG11+BB11+AW11+AR11+AM11+AH11+AC11+X11+O11+G11+C11 -> 3832552 | BO11: =BM11+BH11+BC11+AX11+AS11+AN11+AI11+AD11+Y11+P11+I11+E11 -> 556327.12
A14: Capital Outlay | B14: New electrical contract | AH14: February - Boiler system major repair removed from 2023 financials
A15: Utilities | P15: Irrigation well colapsed - emergency repair | AW15: Summer heat
A16: Other | X16: Cleaning while schools closed | BB16: Summer Cleaning
